BEGIN:VCALENDAR
VERSION:2.0
PRODID:-//Squarespace Inc/Squarespace 6//v6//EN
BEGIN:VEVENT
UID:5fee6ad22547c5214ab2d5c6@squarespace.com
DTSTAMP:20210104T033232Z
DTSTART:20210107T003000Z
DTEND:20210107T050000Z
SUMMARY:Full day ride to Craig's Hut
GEO:-36.957837;146.251284
LOCATION:Hidden Trails\, Bunstons Road\, Tolmie\, Australia
END:VEVENT
END:VCALENDAR
