BEGIN:VCALENDAR
VERSION:2.0
PRODID:-//Squarespace Inc/Squarespace 6//v6//EN
BEGIN:VEVENT
UID:5e0a75c52bd9794a4ee3b9bb@squarespace.com
DTSTAMP:20200502T022046Z
DTSTART:20200424T233000Z
DTEND:20200906T003000Z
SUMMARY:The Kimberley\, Western Australia- season Postponed
END:VEVENT
END:VCALENDAR
