BEGIN:VCALENDAR
VERSION:2.0
PRODID:-//Squarespace Inc/Squarespace 6//v6//EN
BEGIN:VEVENT
UID:5ef16c93cc152d3b60f8b34b@squarespace.com
DTSTAMP:20210131T223354Z
DTSTART:20210425T233000Z
DTEND:20210831T003000Z
SUMMARY:The Kimberley\, Western Australia- Mid April to September 2021
END:VEVENT
END:VCALENDAR
