BEGIN:VCALENDAR
VERSION:2.0
PRODID:-//Squarespace Inc/Squarespace 6//v6//EN
BEGIN:VEVENT
UID:5d5cbe2be2b58600016bfbf8@squarespace.com
DTSTAMP:20200324T004251Z
DTSTART:20200405T230000Z
DTEND:20200409T060000Z
SUMMARY:2 or 4 day Craig's Hut and High Country ride- Postponed 
END:VEVENT
END:VCALENDAR
