BEGIN:VCALENDAR
VERSION:2.0
PRODID:-//Squarespace Inc/Squarespace 6//v6//EN
BEGIN:VEVENT
UID:5cad2c9ceb39317804674cf7@squarespace.com
DTSTAMP:20200505T001522Z
DTSTART:20210120T220000Z
DTEND:20210125T170000Z
SUMMARY:6 day Craig's Hut and Howqua River ride- see Globe Trotting for boo
 kings
END:VEVENT
END:VCALENDAR
