BEGIN:VCALENDAR
VERSION:2.0
PRODID:-//Squarespace Inc/Squarespace 6//v6//EN
BEGIN:VEVENT
UID:5d5cbccddd357600015ad7bf@squarespace.com
DTSTAMP:20200324T004202Z
DTSTART:20200324T220000Z
DTEND:20200327T050000Z
SUMMARY:3 day Craig's Hut and the High Country-Postponed
END:VEVENT
END:VCALENDAR
