BEGIN:VCALENDAR
VERSION:2.0
PRODID:-//Squarespace Inc/Squarespace 6//v6//EN
BEGIN:VEVENT
UID:5eace9eb34916624d912aeb5@squarespace.com
DTSTAMP:20201227T103852Z
DTSTART:20210110T220000Z
DTEND:20210113T050000Z
SUMMARY:3 day Craig's Hut and the High Country- fully booked
END:VEVENT
END:VCALENDAR
