BEGIN:VCALENDAR
VERSION:2.0
PRODID:-//Squarespace Inc/Squarespace 6//v6//EN
BEGIN:VEVENT
UID:5e786725f5dc9f39297d758e@squarespace.com
DTSTAMP:20210110T050533Z
DTSTART:20210330T220000Z
DTEND:20210402T050000Z
SUMMARY:3 day Craig's Hut and the High Country - fully booked
END:VEVENT
END:VCALENDAR
