BEGIN:VCALENDAR
VERSION:2.0
PRODID:-//Squarespace Inc/Squarespace 6//v6//EN
BEGIN:VEVENT
UID:5cad2f859140b7f72500c70b@squarespace.com
DTSTAMP:20200311T014241Z
DTSTART:20200316T220000Z
DTEND:20200320T050000Z
SUMMARY:4 day Craig's Hut and the High Country- Fully booked
END:VEVENT
END:VCALENDAR
