BEGIN:VCALENDAR
VERSION:2.0
PRODID:-//Squarespace Inc/Squarespace 6//v6//EN
BEGIN:VEVENT
UID:5fb3013ba27bda5544859b09@squarespace.com
DTSTAMP:20201116T224942Z
DTSTART:20210405T230000Z
DTEND:20210406T060000Z
SUMMARY:Full day Craig's Hut and High Country ride 
END:VEVENT
END:VCALENDAR
