BEGIN:VCALENDAR
VERSION:2.0
PRODID:-//Squarespace Inc/Squarespace 6//v6//EN
BEGIN:VEVENT
UID:5d96d55ac1f1aa035bea30b9@squarespace.com
DTSTAMP:20191211T012559Z
DTSTART:20200217T043000Z
DTEND:20200221T053000Z
SUMMARY:5 day corporate private group ride- full
END:VEVENT
END:VCALENDAR
