BEGIN:VCALENDAR
VERSION:2.0
PRODID:-//Squarespace Inc/Squarespace 6//v6//EN
BEGIN:VEVENT
UID:5e4dcb0f8c33332bc695b93b@squarespace.com
DTSTAMP:20200221T034624Z
DTSTART:20200228T220000Z
DTEND:20200229T020000Z
SUMMARY:Half day Mt Stirling and the High Country
END:VEVENT
END:VCALENDAR
