BEGIN:VCALENDAR
VERSION:2.0
PRODID:-//Squarespace Inc/Squarespace 6//v6//EN
BEGIN:VEVENT
UID:5cad2b116e9a7f2a144308d7@squarespace.com
DTSTAMP:20210209T013004Z
DTSTART:20211104T220000Z
DTEND:20211107T050000Z
SUMMARY:3 day Craig's Hut and High Country ride - fully booked
END:VEVENT
END:VCALENDAR
