BEGIN:VCALENDAR
VERSION:2.0
PRODID:-//Squarespace Inc/Squarespace 6//v6//EN
BEGIN:VEVENT
UID:5e785cd328dc473dd329ca65@squarespace.com
DTSTAMP:20210217T234717Z
DTSTART:20211109T220000Z
DTEND:20211113T050000Z
SUMMARY:4 day Craig's Hut and High Country ride - Saddles available 
END:VEVENT
END:VCALENDAR
