BEGIN:VCALENDAR
VERSION:2.0
PRODID:-//Squarespace Inc/Squarespace 6//v6//EN
BEGIN:VEVENT
UID:5e7866a5e08d1b666d27e0e1@squarespace.com
DTSTAMP:20201221T011211Z
DTSTART:20210315T220000Z
DTEND:20210318T050000Z
SUMMARY:3 day Craig's Hut and High Country ride - fully booked
END:VEVENT
END:VCALENDAR
