BEGIN:VCALENDAR
VERSION:2.0
PRODID:-//Squarespace Inc/Squarespace 6//v6//EN
BEGIN:VEVENT
UID:5cad268e652dea0cc2b6c5be@squarespace.com
DTSTAMP:20210104T014548Z
DTSTART:20210212T063000Z
DTEND:20210214T053000Z
SUMMARY:2 day 2 night Howqua River and Cattlemen's Homestead ride - fully b
 ooked
END:VEVENT
END:VCALENDAR
