BEGIN:VCALENDAR
VERSION:2.0
PRODID:-//Squarespace Inc/Squarespace 6//v6//EN
BEGIN:VEVENT
UID:5ffbdb8ec782553020e4a592@squarespace.com
DTSTAMP:20210112T023622Z
DTSTART:20220211T063000Z
DTEND:20220213T050000Z
SUMMARY:2 day 2 night Howqua River and Cattlemen's Homestead ride - saddles 
 available 
END:VEVENT
END:VCALENDAR
