BEGIN:VCALENDAR
VERSION:2.0
PRODID:-//Squarespace Inc/Squarespace 6//v6//EN
BEGIN:VEVENT
UID:6013bb2b55f7ed4faa5c990f@squarespace.com
DTSTAMP:20210129T073824Z
DTSTART:20220218T063000Z
DTEND:20220220T050000Z
SUMMARY:2 day 2 night Howqua River and Cattlemen's Homestead ride - saddles 
 available
END:VEVENT
END:VCALENDAR
