BEGIN:VCALENDAR
VERSION:2.0
PRODID:-//Squarespace Inc/Squarespace 6//v6//EN
BEGIN:VEVENT
UID:5fb305af4b72177acb1670d1@squarespace.com
DTSTAMP:20201123T050944Z
DTSTART:20210129T063000Z
DTEND:20210131T053000Z
SUMMARY:2 day 2 night Howqua River and Cattlemen's Homestead ride- fully bo
 oked
END:VEVENT
END:VCALENDAR
