BEGIN:VCALENDAR
VERSION:2.0
PRODID:-//Squarespace Inc/Squarespace 6//v6//EN
BEGIN:VEVENT
UID:5ecc861fbb99ad6e86a105cb@squarespace.com
DTSTAMP:20200903T051908Z
DTSTART:20201009T050000Z
DTEND:20201011T050000Z
SUMMARY:Ride\, Dine\, Wine and Trail Clinic (2 days 2 nights) fully booked- 
 cancelled
END:VEVENT
END:VCALENDAR
