BEGIN:VCALENDAR
VERSION:2.0
PRODID:-//Squarespace Inc/Squarespace 6//v6//EN
BEGIN:VEVENT
UID:5f03d15d61f6c0386c0ff06b@squarespace.com
DTSTAMP:20200903T051850Z
DTSTART:20201002T060000Z
DTEND:20201004T060000Z
SUMMARY:Ride\, Dine\, Wine and Trail Clinic (2 days 2 nights) Cancelled
END:VEVENT
END:VCALENDAR
