BEGIN:VCALENDAR
VERSION:2.0
PRODID:-//Squarespace Inc/Squarespace 6//v6//EN
BEGIN:VEVENT
UID:5ef40f47ae574d50c65e4aad@squarespace.com
DTSTAMP:20200903T051922Z
DTSTART:20201013T050000Z
DTEND:20201018T020000Z
SUMMARY:Swamps 10 year look about trek of the North East Victoria! cancelle
 d
END:VEVENT
END:VCALENDAR
