BEGIN:VCALENDAR
VERSION:2.0
PRODID:-//Squarespace Inc/Squarespace 6//v6//EN
BEGIN:VEVENT
UID:5fed4f6c89898a72c713620e@squarespace.com
DTSTAMP:20210111T004412Z
DTSTART:20211020T050000Z
DTEND:20211024T043000Z
SUMMARY:Swamps look about trek of the North East Victoria! (4 nights &amp\; 
 4 days) 
END:VEVENT
END:VCALENDAR
