BEGIN:VCALENDAR
VERSION:2.0
PRODID:-//Squarespace Inc/Squarespace 6//v6//EN
BEGIN:VEVENT
UID:5ddc770a0bedbb4a43a7405e@squarespace.com
DTSTAMP:20191126T005805Z
DTSTART:20200101T220000Z
DTEND:20200102T050000Z
SUMMARY:Full day ride to Craig's Hut and Mt Stirling- 12 saddles available 
END:VEVENT
END:VCALENDAR
