BEGIN:VCALENDAR
VERSION:2.0
PRODID:-//Squarespace Inc/Squarespace 6//v6//EN
BEGIN:VEVENT
UID:5cad2105fa0d606b77f118f6@squarespace.com
DTSTAMP:20210111T014055Z
DTSTART:20211213T220000Z
DTEND:20211219T030000Z
SUMMARY:6 day Craig's Hut and backcountry ride - see Globe Trotting for boo
 kings
END:VEVENT
END:VCALENDAR
