BEGIN:VCALENDAR
VERSION:2.0
PRODID:-//Squarespace Inc/Squarespace 6//v6//EN
BEGIN:VEVENT
UID:5c4fdd3c7924e85a6dda5867@squarespace.com
DTSTAMP:20190129T050558Z
DTSTART:20190329T220000Z
DTEND:20190330T050000Z
SUMMARY:Full day ride to Craig's Hut
END:VEVENT
END:VCALENDAR
