BEGIN:VCALENDAR
VERSION:2.0
PRODID:-//Squarespace Inc/Squarespace 6//v6//EN
BEGIN:VEVENT
UID:5c36d43603ce64cd96ba5449@squarespace.com
DTSTAMP:20190110T051328Z
DTSTART:20190222T053000Z
DTEND:20190224T043000Z
SUMMARY:2 day 2 night Howqua Valley and Stockyard Creek Homestead ride- pri
 vate ride
END:VEVENT
END:VCALENDAR
