BEGIN:VCALENDAR
VERSION:2.0
PRODID:-//Squarespace Inc/Squarespace 6//v6//EN
BEGIN:VEVENT
UID:5dd9b71cc040f62cf1358f1d@squarespace.com
DTSTAMP:20200114T215007Z
DTSTART:20200117T223000Z
DTEND:20200128T053000Z
SUMMARY:Full day and half day Mt Stirling rides
END:VEVENT
END:VCALENDAR
