BEGIN:VCALENDAR
VERSION:2.0
PRODID:-//Squarespace Inc/Squarespace 6//v6//EN
BEGIN:VEVENT
UID:5ffa84e0e12ca55bafaaa77c@squarespace.com
DTSTAMP:20210110T044157Z
DTSTART:20200327T223000Z
DTEND:20200328T043000Z
SUMMARY:Full day Mt Stirling and Craig's Hut ride- 4 saddles available 
END:VEVENT
END:VCALENDAR
