BEGIN:VCALENDAR
VERSION:2.0
PRODID:-//Squarespace Inc/Squarespace 6//v6//EN
BEGIN:VEVENT
UID:5d744dada693a605381acf41@squarespace.com
DTSTAMP:20201116T235355Z
DTSTART:20201120T220000Z
DTEND:20201121T050000Z
SUMMARY:Full day Craig's Hut and High Country ride-fully booked
END:VEVENT
END:VCALENDAR
