BEGIN:VCALENDAR
VERSION:2.0
PRODID:-//Squarespace Inc/Squarespace 6//v6//EN
BEGIN:VEVENT
UID:5d7440b131108d47920461a8@squarespace.com
DTSTAMP:20201030T221224Z
DTSTART:20201106T230000Z
DTEND:20201107T060000Z
SUMMARY:Full day Craig's Hut and Mt Stirling ride- fully booked
GEO:-37.127222;146.498889
LOCATION:Telephone Box Junction\, Mt Stirling Road\, Mt Stirling\, Australi
 a
END:VEVENT
END:VCALENDAR
