BEGIN:VCALENDAR
VERSION:2.0
PRODID:-//Squarespace Inc/Squarespace 6//v6//EN
BEGIN:VEVENT
UID:5fb2fe65cadfdf57852940a5@squarespace.com
DTSTAMP:20210111T014649Z
DTSTART:20220101T220000Z
DTEND:20220102T050000Z
SUMMARY:Full day Craig's Hut and Mt Stirling ride- saddles available 
GEO:-37.127222;146.498889
LOCATION:Telephone Box Junction\, Mt Stirling Road\, Mt Stirling\, Australi
 a
END:VEVENT
END:VCALENDAR
