BEGIN:VCALENDAR
VERSION:2.0
PRODID:-//Squarespace Inc/Squarespace 6//v6//EN
BEGIN:VEVENT
UID:5fb3002686e2c82a63f5eabb@squarespace.com
DTSTAMP:20210117T032211Z
DTSTART:20210319T220000Z
DTEND:20210320T050000Z
SUMMARY:Full day Craig's Hut and Mt Stirling ride- fully booked
GEO:-37.127222;146.498889
LOCATION:Telephone Box Junction\, Mt Stirling Road\, Mt Stirling\, Australi
 a
END:VEVENT
END:VCALENDAR
