BEGIN:VCALENDAR
VERSION:2.0
PRODID:-//Squarespace Inc/Squarespace 6//v6//EN
BEGIN:VEVENT
UID:5e7863a364f35a2e289b0cbd@squarespace.com
DTSTAMP:20210103T222912Z
DTSTART:20210115T220000Z
DTEND:20210117T040000Z
SUMMARY:2 Day Craig's Hut and High Country Ride- 2 saddles available!
END:VEVENT
END:VCALENDAR
