BEGIN:VCALENDAR
VERSION:2.0
PRODID:-//Squarespace Inc/Squarespace 6//v6//EN
BEGIN:VEVENT
UID:5e7867a7c54f956f5685d26b@squarespace.com
DTSTAMP:20201209T233749Z
DTSTART:20210311T220000Z
DTEND:20210313T040000Z
SUMMARY:2 Day Craig's Hut and High Country Ride- fully booked 
END:VEVENT
END:VCALENDAR
