BEGIN:VCALENDAR
VERSION:2.0
PRODID:-//Squarespace Inc/Squarespace 6//v6//EN
BEGIN:VEVENT
UID:589410ce44024301c31e6e26@squarespace.com
DTSTAMP:20201109T073111Z
DTSTART:20201123T220000Z
DTEND:20201129T050000Z
SUMMARY:6 Day High Country and Howqua River ride - Saddles available 
END:VEVENT
END:VCALENDAR
