BEGIN:VCALENDAR
VERSION:2.0
PRODID:-//Squarespace Inc/Squarespace 6//v6//EN
BEGIN:VEVENT
UID:5ffba6cf3b112d2bb6f07d91@squarespace.com
DTSTAMP:20210111T011732Z
DTSTART:20211122T220000Z
DTEND:20211128T030000Z
SUMMARY:6 Day High Country and Howqua River ride - Saddles available
END:VEVENT
END:VCALENDAR
