BEGIN:VCALENDAR
VERSION:2.0
PRODID:-//Squarespace Inc/Squarespace 6//v6//EN
BEGIN:VEVENT
UID:5e78667496c2552a3b98e831@squarespace.com
DTSTAMP:20200505T002209Z
DTSTART:20210302T220000Z
DTEND:20210308T050000Z
SUMMARY:6 Day High Country and Howqua River ride - see Globe Trotting for b
 ookings
END:VEVENT
END:VCALENDAR
