BEGIN:VCALENDAR
VERSION:2.0
PRODID:-//Squarespace Inc/Squarespace 6//v6//EN
BEGIN:VEVENT
UID:5ffbd8a88df9662d1047160a@squarespace.com
DTSTAMP:20210111T045204Z
DTSTART:20220111T220000Z
DTEND:20220117T030000Z
SUMMARY:6 Day High Country and Howqua River ride - Saddles available  
END:VEVENT
END:VCALENDAR
