BEGIN:VCALENDAR
VERSION:2.0
PRODID:-//Squarespace Inc/Squarespace 6//v6//EN
BEGIN:VEVENT
UID:5894101ba5790a9b3a980c0e@squarespace.com
DTSTAMP:20170618T013416Z
DTSTART:20180228T223000Z
DTEND:20180305T053000Z
SUMMARY:5 Day Craig's Hut and High Country ride- fully booked
END:VEVENT
END:VCALENDAR
