BEGIN:VCALENDAR
VERSION:2.0
PRODID:-//Squarespace Inc/Squarespace 6//v6//EN
BEGIN:VEVENT
UID:58940fd1f5e231c597b1c4c3@squarespace.com
DTSTAMP:20170626T020716Z
DTSTART:20180217T223000Z
DTEND:20180223T033000Z
SUMMARY:6 Day Craig's Hut and beyond High Country ride- fully booked
END:VEVENT
END:VCALENDAR
