BEGIN:VCALENDAR
VERSION:2.0
PRODID:-//Squarespace Inc/Squarespace 6//v6//EN
BEGIN:VEVENT
UID:58940e033a0411f4528fc20a@squarespace.com
DTSTAMP:20190301T234528Z
DTSTART:20190301T223000Z
DTEND:20190308T053000Z
SUMMARY:7 Day Craig's Hut and High Country beyond ride- Fully booked
END:VEVENT
END:VCALENDAR
