BEGIN:VCALENDAR
VERSION:2.0
PRODID:-//Squarespace Inc/Squarespace 6//v6//EN
BEGIN:VEVENT
UID:58940f3c17bffcb23cab38fb@squarespace.com
DTSTAMP:20201105T031916Z
DTSTART:20201204T220000Z
DTEND:20201208T050000Z
SUMMARY:4 Day Craig's Hut and Howqua River Ride - saddles available 
END:VEVENT
END:VCALENDAR
