BEGIN:VCALENDAR
VERSION:2.0
PRODID:-//Squarespace Inc/Squarespace 6//v6//EN
BEGIN:VEVENT
UID:5ffbaafb9e739b60fdae4c76@squarespace.com
DTSTAMP:20210111T013614Z
DTSTART:20211210T050000Z
DTEND:20211212T040000Z
SUMMARY:2 day 2 night Howqua River Ride - private group booking
END:VEVENT
END:VCALENDAR
