BEGIN:VCALENDAR
VERSION:2.0
PRODID:-//Squarespace Inc/Squarespace 6//v6//EN
BEGIN:VEVENT
UID:58d9a88503596e1f6199aeeb@squarespace.com
DTSTAMP:20170906T001256Z
DTSTART:20180401T013000Z
DTEND:20180902T023000Z
SUMMARY:The Kimberley\, Western Australia
END:VEVENT
END:VCALENDAR
