BEGIN:VCALENDAR
VERSION:2.0
PRODID:-//Squarespace Inc/Squarespace 6//v6//EN
BEGIN:VEVENT
UID:5719bb26b654f9dd5cbf35ba@squarespace.com
DTSTAMP:20180219T002630Z
DTSTART:20181215T223000Z
DTEND:20181222T030000Z
SUMMARY:7 day Craig's Hut and High Country ride- fully booked
END:VEVENT
END:VCALENDAR
