BEGIN:VCALENDAR
VERSION:2.0
PRODID:-//Squarespace Inc/Squarespace 6//v6//EN
BEGIN:VEVENT
UID:5719bc9637013bf7bba1556e@squarespace.com
DTSTAMP:20200130T031039Z
DTSTART:20200204T220000Z
DTEND:20200208T050000Z
SUMMARY:4 Day Craig's Hut and High Country ride- 8 available saddles
END:VEVENT
END:VCALENDAR
