BEGIN:VCALENDAR
VERSION:2.0
PRODID:-//Squarespace Inc/Squarespace 6//v6//EN
BEGIN:VEVENT
UID:5ffd0c9d93e2771243fe4d7f@squarespace.com
DTSTAMP:20210120T053756Z
DTSTART:20220330T220000Z
DTEND:20220403T050000Z
SUMMARY:4 Day Craig's Hut and High Country ride- 8 saddles available 
END:VEVENT
END:VCALENDAR
