BEGIN:VCALENDAR
VERSION:2.0
PRODID:-//Squarespace Inc/Squarespace 6//v6//EN
BEGIN:VEVENT
UID:5843894fb3db2b1a4a98e1a5@squarespace.com
DTSTAMP:20210101T002030Z
DTSTART:20210103T220000Z
DTEND:20210107T050000Z
SUMMARY:4 day 3 night Craig's Hut and High Country ride- Cancelled 
END:VEVENT
END:VCALENDAR
