BEGIN:VCALENDAR
VERSION:2.0
PRODID:-//Squarespace Inc/Squarespace 6//v6//EN
BEGIN:VEVENT
UID:5844864146c3c4f2f7e86ba9@squarespace.com
DTSTAMP:20170222T055038Z
DTSTART:20171209T223000Z
DTEND:20171215T030000Z
SUMMARY:6 day Craig's Hut and the High Country beyond ride-fully booked
END:VEVENT
END:VCALENDAR
